BEGIN:VCALENDAR
VERSION:2.0
PRODID:-//Kreisgruppe Westerwald e.V. - ECPv6.15.18//NONSGML v1.0//EN
CALSCALE:GREGORIAN
METHOD:PUBLISH
X-ORIGINAL-URL:https://www.jagd-ww.de
X-WR-CALDESC:Veranstaltungen für Kreisgruppe Westerwald e.V.
REFRESH-INTERVAL;VALUE=DURATION:PT1H
X-Robots-Tag:noindex
X-PUBLISHED-TTL:PT1H
BEGIN:VTIMEZONE
TZID:Europe/Berlin
BEGIN:DAYLIGHT
TZOFFSETFROM:+0100
TZOFFSETTO:+0200
TZNAME:CEST
DTSTART:20230326T010000
END:DAYLIGHT
BEGIN:STANDARD
TZOFFSETFROM:+0200
TZOFFSETTO:+0100
TZNAME:CET
DTSTART:20231029T010000
END:STANDARD
BEGIN:DAYLIGHT
TZOFFSETFROM:+0100
TZOFFSETTO:+0200
TZNAME:CEST
DTSTART:20240331T010000
END:DAYLIGHT
BEGIN:STANDARD
TZOFFSETFROM:+0200
TZOFFSETTO:+0100
TZNAME:CET
DTSTART:20241027T010000
END:STANDARD
BEGIN:DAYLIGHT
TZOFFSETFROM:+0100
TZOFFSETTO:+0200
TZNAME:CEST
DTSTART:20250330T010000
END:DAYLIGHT
BEGIN:STANDARD
TZOFFSETFROM:+0200
TZOFFSETTO:+0100
TZNAME:CET
DTSTART:20251026T010000
END:STANDARD
BEGIN:DAYLIGHT
TZOFFSETFROM:+0100
TZOFFSETTO:+0200
TZNAME:CEST
DTSTART:20260329T010000
END:DAYLIGHT
BEGIN:STANDARD
TZOFFSETFROM:+0200
TZOFFSETTO:+0100
TZNAME:CET
DTSTART:20261025T010000
END:STANDARD
BEGIN:DAYLIGHT
TZOFFSETFROM:+0100
TZOFFSETTO:+0200
TZNAME:CEST
DTSTART:20270328T010000
END:DAYLIGHT
BEGIN:STANDARD
TZOFFSETFROM:+0200
TZOFFSETTO:+0100
TZNAME:CET
DTSTART:20271031T010000
END:STANDARD
END:VTIMEZONE
BEGIN:VEVENT
DTSTART;TZID=Europe/Berlin:20260327T183000
DTEND;TZID=Europe/Berlin:20260327T203000
DTSTAMP:20260421T212733
CREATED:20251118T100513Z
LAST-MODIFIED:20260105T111915Z
UID:6423-1774636200-1774643400@www.jagd-ww.de
SUMMARY:Hegeringversammlung Wallmerod / Steinefrenz
DESCRIPTION:Einladung zur Hegeringversammlung des Hegering Steinefrenz/ Wallmerod am Freitag\, den 27.03.2026\, 18.30 Uhr\nDorfgemeinschaftshaus Hahn am See. Tagesordnung: (Änderungen vorbehalten) 1. Begrüßung\, 2. Totenehrung\, 3. Bericht des Hegeringleiters\, Informationen des Kreisjagdmeisters\, des Vorsitzenden der Kreisgruppe\, 4.. Trophäenauswertung und Prämierungen\, 5. Ehrungen\, 6. Wahl des Hegeringvorstandes\, 7. Termine\, 8. Verschiedenes
URL:https://www.jagd-ww.de/veranstaltung/hegeringversammlung-wallmerod-steinefrenz-6/
LOCATION:DGH Hahn am See
END:VEVENT
BEGIN:VEVENT
DTSTART;TZID=Europe/Berlin:20260321T140000
DTEND;TZID=Europe/Berlin:20260321T170000
DTSTAMP:20260421T212733
CREATED:20251118T100436Z
LAST-MODIFIED:20251210T104941Z
UID:6419-1774101600-1774112400@www.jagd-ww.de
SUMMARY:Hegeringversammlung Rennerod
DESCRIPTION:Einladung zur HR-Versammlung am Samstag\, 21. März 2026 um 14.00 Uhr\, Haus am Alsberg\, Rennerod\nTagesordnung: Begrüßung\, Totenehrung\, Grußworte\, Bericht des HRL\, Bericht des KGV\, Bericht des KJM\, Trophäenbewertung\, Neuwahl des HR Vorstandes\, Verschiedenes.\nZur Bewertung sind Gehörne und Keilerwaffen am Veranstaltungstag bis spätestens 13.00 Uhr vor Ort\, oder in der Woche vorher bei Meik Helsper (Hellenhahn\, Rosenacker 2)\, Achim Reeh (Liebenscheid\, Birkenweg 20) oder Thomas Schneider (Irmtraut\, Sonnenhof) abzugeben.
URL:https://www.jagd-ww.de/veranstaltung/hegeringversammlung-rennerod-5/
LOCATION:Soldatenfreizeitheim Haus am Alsberg\, Rennerod
END:VEVENT
BEGIN:VEVENT
DTSTART;TZID=Europe/Berlin:20260320T180000
DTEND;TZID=Europe/Berlin:20260320T203000
DTSTAMP:20260421T212733
CREATED:20251118T100256Z
LAST-MODIFIED:20260105T111625Z
UID:6416-1774029600-1774038600@www.jagd-ww.de
SUMMARY:Hegeringversammlung Selters
DESCRIPTION:Einladung zur Hegeringversammlung mit Trophäenschau und Wahl des Hegeringvorstands am Freitag\, 20.03.2026 um 18:00 Uhr in die Gaststätte „Alte Viehweide“ in 56244 Helferskirchen. Trophäenabgabe erfolgt bitte am Donnerstag\, 19.03.2026 zwischen 18:00 – 19:00 Uhr. Nur in diesem Zeitraum werden die Trophäen vom Vorstand entgegengenommen.\nTagesordnung: 1. Begrüßung durch die Jagdhornbläsergruppe „Drei-Herren-Stein“\, 2. Begrüßung durch den Hegeringleiter\, 3. Totenehrung\, 4.Trophäenbesprechung durch den Kreisjagdmeister\, 5. Aktuelle Informationen durch den Kreisgruppenvorsitzenden\, 6. Wahl des Hegeringvorstands\, 7. Verschiedenes
URL:https://www.jagd-ww.de/veranstaltung/hegeringversammlung-selters-6/
LOCATION:Hotel „Alte Viehweide“\, Helferskirchen
END:VEVENT
BEGIN:VEVENT
DTSTART;TZID=Europe/Berlin:20260314T140000
DTEND;TZID=Europe/Berlin:20260314T163000
DTSTAMP:20260421T212733
CREATED:20251118T100156Z
LAST-MODIFIED:20260105T111541Z
UID:6413-1773496800-1773505800@www.jagd-ww.de
SUMMARY:Hegeringversammlung Hachenburg
DESCRIPTION:Einladung zur Hegeringversammlung des Hegering Hachenburg am 14.03.2026 um 14:00 Uhr im Gasthaus zur Linde in 57629 Wied. Tagesordnung: (Änderungen vorbehalten) 1.Begrüßung\, 2.Totenehrung\, 3.Grußworte\, 4. Bericht des Hegeringleiters\, 5. Informationen des Kreisjagdmeisters\, 6. Informationen des Vorsitzenden der Kreisgruppe\, 7. Ehrungen\, 8. Wahl des Hegeringvorstandes\, 9. Verschiedenes. Damit die Trophäen / Keilerwaffen ausgewertet werden können\, sind diese am 13.03.2026 ab 17:00 Uhr vor Ort abzugeben.
URL:https://www.jagd-ww.de/veranstaltung/hegeringversammlung-hachenburg-6/
END:VEVENT
BEGIN:VEVENT
DTSTART;TZID=Europe/Berlin:20260313T193000
DTEND;TZID=Europe/Berlin:20260313T210000
DTSTAMP:20260421T212733
CREATED:20260130T113448Z
LAST-MODIFIED:20260130T113448Z
UID:6505-1773430200-1773435600@www.jagd-ww.de
SUMMARY:Hundeführerlehrgang - Infoveranstaltung
DESCRIPTION:Weitere Infos auf der Seite Jagdhundewesen.
URL:https://www.jagd-ww.de/veranstaltung/hundefuehrerlehrgang-infoveranstaltung/
LOCATION:Steig-Alm\, Bad Marienberg\, Tierparkstr\, Bad Marienberg\, Deutschland
END:VEVENT
BEGIN:VEVENT
DTSTART;TZID=Europe/Berlin:20260313T190000
DTEND;TZID=Europe/Berlin:20260313T210000
DTSTAMP:20260421T212733
CREATED:20251210T104309Z
LAST-MODIFIED:20260105T111800Z
UID:6434-1773428400-1773435600@www.jagd-ww.de
SUMMARY:Hegeringversammlung Bad Marienberg
DESCRIPTION:Einladung zur Hegeringversammlung am Freitag\, 13.03.2026 um 19.00 Uhr im Dorfgemeinschaftshaus Norken.\nTagesordnung: 1. Begrüßung\, 2. Totenehrung\, 3. Bericht des Hegeringvorstands\, 4. Informationen des Kreisjagdmeisters\, 5. Informationen des Vorsitzenden der Kreisgruppe\, 6. Wahl des Hegeringvorstandes\, 7. Verschiedenes
URL:https://www.jagd-ww.de/veranstaltung/hegeringversammlung-bad-marienberg-6/
LOCATION:DGH Norken
END:VEVENT
BEGIN:VEVENT
DTSTART;TZID=Europe/Berlin:20260306T183000
DTEND;TZID=Europe/Berlin:20260306T210000
DTSTAMP:20260421T212733
CREATED:20251118T100124Z
LAST-MODIFIED:20260105T112324Z
UID:6410-1772821800-1772830800@www.jagd-ww.de
SUMMARY:Hegeringversammlung Westerburg
DESCRIPTION:Einladung zur HR-Versammlung am 06. März um 18.30 Uhr\, Gaststätte Jung\, Guckheim\nTagesordnung: (Änderungen vorbehalten) 1. Begrüßung\, 2. Totenehrung\, 3. Bericht des HRL\, 4.Informationen des KJM\, Informationen des KGV\, 5. Trophäenbewertung\, 6. Ehrungen\, 7. Wahl des HR-Vorstandes\, 8. Verschiedenes.\nZur Bewertung der Trophäen sind diese am 05.03. von 18.00 – 20..00 Uhr in der Gaststätte Jung in Guckheim oder bis zum 05.03. bei Lars Heinz\, Westerburger Str. 25\, Öllingen abzugeben.
URL:https://www.jagd-ww.de/veranstaltung/hegeringversammlung-westerburg-5/
LOCATION:Gaststätte Jung\, Guckheim
END:VEVENT
BEGIN:VEVENT
DTSTART;TZID=Europe/Berlin:20260227T180000
DTEND;TZID=Europe/Berlin:20260227T203000
DTSTAMP:20260421T212733
CREATED:20251210T104205Z
LAST-MODIFIED:20251210T105046Z
UID:6431-1772215200-1772224200@www.jagd-ww.de
SUMMARY:Hegeringversammlung Kannenbäckerland
DESCRIPTION:Einladung zur Hegeringversammlung des Hegering Kannenbäckerland am Freitag\, den 27.02.2026\, 18.00 Uhr\, Landhotel Wolf- Mertes\, Sessenbach. Tagesordnung: 1. Begrüßung\, 2. Totenehrung\, 3. Berichte des Vorsitzenden der Kreisgruppe und des Kreisjagdmeisters\, 4. Ehrungen\, 5. Wahl des Hegeringvorstands\, 6. Verschiedenes
URL:https://www.jagd-ww.de/veranstaltung/hegeringversammlung-kannenbaeckerland-7/
LOCATION:Hotel Wolf-Mertes
END:VEVENT
BEGIN:VEVENT
DTSTART;TZID=Europe/Berlin:20260131T070000
DTEND;TZID=Europe/Berlin:20260131T183000
DTSTAMP:20260421T212733
CREATED:20251210T105229Z
LAST-MODIFIED:20251210T105331Z
UID:6452-1769842800-1769884200@www.jagd-ww.de
SUMMARY:Fahrt zur Messe Jagd und Hund
DESCRIPTION:Der Hegering Westerburg hat wie jedes Jahr\, wieder einen Bus zur Messe organisiert. Abfahrt am Samstag den 31.01.26 von Höhn\, am Marktplatz ab 07:00 Uhr\, Rückfahrt von Dortmund um 17:00 Uhr. Kosten: Eintrittsticket zur Messe 20\,00 € + Busfahrt p. P. 25\,00 € = 45\,00 €. \nDer Hegering Westerburg übernimmt für Mitglieder die Ticketkosten für den Eintritt zur Messe. Hinweis: Die meisten Jagd-Haftpflichtversicherungen senden dem Versicherungsnehmer auf Anfrage ein kostenloses Ticket zu. Verbindliche Anmeldungen bis zum 05.01.26 unter der Rufnummer 0175- 4135048. Bezahlung per PayPal oder bar im Voraus bei mir. Zahlungseingang gilt als verbindliche Reservierung.
URL:https://www.jagd-ww.de/veranstaltung/fahrt-zur-messe-jagd-und-hund/
ATTACH;FMTTYPE=image/jpeg:https://www.jagd-ww.de/wp-content/uploads/2025/12/KG12_WhatsApp_Image_2025-12-03_at_16.34.18.jpeg
END:VEVENT
BEGIN:VEVENT
DTSTART;TZID=Europe/Berlin:20260123T180000
DTEND;TZID=Europe/Berlin:20260123T200000
DTSTAMP:20260421T212733
CREATED:20260116T110651Z
LAST-MODIFIED:20260116T110651Z
UID:6497-1769191200-1769198400@www.jagd-ww.de
SUMMARY:Wolfsmanagement - Mahnfeuer am 23.01.2026 in 56479 Rehe
DESCRIPTION:Wann\, wenn nicht jetzt? Die Weidetierhalter stehen auf! \nMahnfeuer im Westerwald fordert wirksames Wolfsmanagement \nDie Weidetierhalter stehen auf: Mit einer länderübergreifenden Mahnfeuer am Freitag\, 23.01.2026 um 18:00 Uhr bei der Grillhütte in Rehe (Westerwaldkreis) machen Weidetierhalter\, Verbände des ländlichen Raums und weitere Unterstützer auf die dramatische Lage der Weidetierhaltung aufmerksam\, in die eine Politik der ungebremsten Ausbreitung des Wolfes sie bringt. \nDie Veranstaltung wird getragen von einem breiten Bündnis von Tierhalter- und weiteren Verbänden im ländlichen Raum aus dem Dreiländereck Hessen\, Rheinland-Pfalz und Nordrhein-Westfalen. Auch die Landkreise Altenkirchen\, Neuwied und der Westerwaldkreis unterstützen den sachlichen\, verantwortungsbewussten und lösungsorientierten Protest. \nSeit Jahren nehmen Wolfsübergriffe\, wirtschaftliche Schäden und die Belastung für Tierhalter in unserer Mittelgebirgsregion zu. Die grausame Rissserie\, die Weidetierhalter im Dreiländereck Hessen\, Nordrhein-Westfalen und Rheinland-Pfalz seit kurz vor Weihnachten erschüttert\, zeigt exemplarisch die Hilflosigkeit des bisherigen Wolfsmanagements auf\, das keine ausreichenden\, wirksamen Lösungen für die vulnerable Weidetierhaltung bietet. \nDas Mahnfeuer fordert ein wirksames Wolfsmanagement\, das den Schutz von Weidetieren und damit den Erhalt der Biodiversität in unserer Kulturlandschaft endlich zuverlässig gewährleistet. Wann\, wenn nicht jetzt\, müssen politische Ankündigungen endlich wirksam umgesetzt werden? \nIn einer Kundgebung beim Mahnfeuer werden von den Veranstaltern insbesondere folgende Forderungen erhoben: \n\nUnverzügliches Handeln der Politik in Bund und Ländern!\nEtablierung einer regulären Bejagung des Wolfes zur Vermeidung einer weiteren ungebremsten Ausbreitung!\nSchnelle und gezielte Entnahme auffälliger und schadstiftender Wölfe! \n\nWeidetierhaltung betrifft Schafe\, Ziegen\, Rinder\, Pferde\, Gehegewild und weitere Tierarten gleichermaßen – keine darf ausgeklammert werden. Ohne praktikable Lösungen verlieren immer mehr Betriebe ihre Perspektive – und mit ihnen unsere artenreiche Kulturlandschaft in den Mittelgebirgen. \nDas Signal der Weidetierhalter ist deutlich: \nWir stehen auf für ein wirksames Wolfsmanagement JETZT! \nVeranstalter:     Bauern- und Winzerverband Rheinland-Nassau e. V.\, Bürgerinitiative Wolfsprävention Westerwald\, Landesverband der Schafhalter/Ziegenhalter und Züchter Rheinland-Pfalz e. V. sowie der Verein Weidezone Deutschland.
URL:https://www.jagd-ww.de/veranstaltung/wolfsmanagement-mahnfeuer-am-23-01-2026-in-56479-rehe/
LOCATION:Grillhütte Rehe
END:VEVENT
BEGIN:VEVENT
DTSTART;TZID=Europe/Berlin:20250803T110000
DTEND;TZID=Europe/Berlin:20250803T170000
DTSTAMP:20260421T212733
CREATED:20250718T091651Z
LAST-MODIFIED:20250718T091651Z
UID:6264-1754218800-1754240400@www.jagd-ww.de
SUMMARY:Wildes Grillen
DESCRIPTION:Am 03. August ab 11.00 Uhr laden die Westerwälder Jäger wieder zum „Wilden Grillen“ auf den Hof Dapprich in Seck ein.\nTobias Kimmel zeigt den Besuchern in praktischen Vorführungen die vielfältigen Möglichkeiten der Zubereitung verschiedener Wildprodukte auf dem Grill. Martin Seidler (SWR) führt durch die Veranstaltung und schaut den Akteuren über die Schulter. Verschiedene Marktstände\, Kaffee und Kuchen\, sowie Getränke jeglicher Art runden das Angebot ab. Die Jagdhornbläsergruppe Hoher Westerwald und der Musikverein Seck begleiten die Veranstaltung mit ihren Darbietungen.
URL:https://www.jagd-ww.de/veranstaltung/wildes-grillen/
LOCATION:Dappricher hof\, Dappricher Hof\, Gemünden\, rlp\, 56459\, Deutschland
ATTACH;FMTTYPE=image/jpeg:https://www.jagd-ww.de/wp-content/uploads/2025/07/Wildes-Grillen.jpg
END:VEVENT
BEGIN:VEVENT
DTSTART;TZID=Europe/Berlin:20250803T110000
DTEND;TZID=Europe/Berlin:20250803T170000
DTSTAMP:20260421T212733
CREATED:20250507T082201Z
LAST-MODIFIED:20250718T091746Z
UID:6147-1754218800-1754240400@www.jagd-ww.de
SUMMARY:Wildes Grillen auf dem Hofgut Dapprich
DESCRIPTION:Am Sonntag\, 03. August laden wir wieder zum „Wilden Grillen“ ein.\nTobias Kimmel zeigt den Besuchern in praktischen Vorführungen die vielfältigen Möglichkeiten der Zubereitung verschiedener Wildprodukte auf dem Grill. Martin Seidler vom SWR wird die Veranstaltung moderieren. Ein kleiner Markt mit verschiedenen Anbietern rundet die Veranstaltung ab.
URL:https://www.jagd-ww.de/veranstaltung/wildes-grillen-auf-dem-hofgut-dapprich/
LOCATION:Dappricher hof\, Dappricher Hof\, Gemünden\, rlp\, 56459\, Deutschland
END:VEVENT
BEGIN:VEVENT
DTSTART;TZID=Europe/Berlin:20250710T183000
DTEND;TZID=Europe/Berlin:20250710T200000
DTSTAMP:20260421T212733
CREATED:20250708T092818Z
LAST-MODIFIED:20250708T092818Z
UID:6256-1752172200-1752177600@www.jagd-ww.de
SUMMARY:Welpentreffen
DESCRIPTION:Weitere Infos auf der Seite Hundewesen…
URL:https://www.jagd-ww.de/veranstaltung/welpentreffen/
END:VEVENT
BEGIN:VEVENT
DTSTART;TZID=Europe/Berlin:20250625T090000
DTEND;TZID=Europe/Berlin:20250625T150000
DTSTAMP:20260421T212733
CREATED:20250530T063901Z
LAST-MODIFIED:20250530T063901Z
UID:6192-1750842000-1750863600@www.jagd-ww.de
SUMMARY:DEMO IN MAINZ
DESCRIPTION:25.06.2025\nSammeln: 09:00 Uhr\nBeginn Protestmarsch: 11:00 Uhr\nKundgebung: 13:00 Uhr\nEnde: 15:00 Uhr\n\nTreffpunkt: Rheinufer zwischen Kaisertor und Theodor-Heuss-Brücke\nKundgebung / Ende: Ernst-Ludwig-Platz
URL:https://www.jagd-ww.de/veranstaltung/demo-in-mainz/
LOCATION:Mainz
ATTACH;FMTTYPE=image/jpeg:https://www.jagd-ww.de/wp-content/uploads/2025/05/LJG_Demo.jpg
END:VEVENT
BEGIN:VEVENT
DTSTART;TZID=Europe/Berlin:20250607T110000
DTEND;TZID=Europe/Berlin:20250607T130000
DTSTAMP:20260421T212733
CREATED:20250530T063557Z
LAST-MODIFIED:20250604T085448Z
UID:6188-1749294000-1749301200@www.jagd-ww.de
SUMMARY:Kundgebung GEGEN DIE NOVELLIERUNG DES LANDESJAGDGESETZES RLP
DESCRIPTION:Wo? Hachenburg\, Marktplatz\nWann? 11.00 Uhr\nOutfit: Jagdlich grün mit orangener Weste\nGeplanter Verlauf:\n– 11.00 Uhr Eröffnung – musikalischer Beitrag einer Jagdhornbläsergruppe\n– Organisatorische Hinweise des Versammlungsleiters\n– Redebeiträge – zwischen den Redebeiträgen Musikstücke der Bläserguppe\n– ca. 13.00 Uhr Ende der Veranstaltung
URL:https://www.jagd-ww.de/veranstaltung/kundgebung-gegen-die-novellierung-des-landesjagdgesetzes-rlp/
LOCATION:Marktplatz Hachenburg\, Am Markt\, Hachenburg
ATTACH;FMTTYPE=image/jpeg:https://www.jagd-ww.de/wp-content/uploads/2023/07/2023-07-10-11_39_22-Warnstreik-der-Jaegerschaft-Landesjagdverband-Rheinland-Pfalz-e.V.-und-1-weiter.jpg
END:VEVENT
BEGIN:VEVENT
DTSTART;VALUE=DATE:20250523
DTEND;VALUE=DATE:20250525
DTSTAMP:20260421T212733
CREATED:20241215T110743Z
LAST-MODIFIED:20241215T110743Z
UID:5916-1747972800-1748059199@www.jagd-ww.de
SUMMARY:Landesjägertag 2025
DESCRIPTION:
URL:https://www.jagd-ww.de/veranstaltung/landesjaegertag-2025/
LOCATION:Kirchheimbolanden
END:VEVENT
BEGIN:VEVENT
DTSTART;TZID=Europe/Berlin:20250419T090000
DTEND;TZID=Europe/Berlin:20250419T120000
DTSTAMP:20260421T212733
CREATED:20250406T065143Z
LAST-MODIFIED:20250406T065143Z
UID:6090-1745053200-1745064000@www.jagd-ww.de
SUMMARY:Hegeringschießen HR Westerburg und HR Rennerod
DESCRIPTION:Liebe Jägerinnen und Jäger\, \nwir möchten auf diesem Wege nochmal an unser Hegeringschießen am Samstag\, den 19.4. auf dem Kugelstand in Höhn erinnern.\nDie Veranstaltung findet in Kooperation mit dem Hegering Rennerod statt. \nVon 09:00 – 12:00 Uhr kann Kurzwaffe\, Laufender Keiler und auch die 100m Bahnen geschossen werden.\nEs können natürlich auch Waffen eingeschossen\, oder ein Kontrollschuss gemacht werden bevor die Jagdzeit beginnt.\nMittags wollen wir gemeinsam das HR-Schießen bei Gegrilltem und netten Gesprächen ausklingen lassen. \nUm besser planen zu können und genug Fleisch und Getränke einzukalkulieren\, bitten wir um Voranmeldung bis zum 17.4.\nWir freuen uns auf eine gelungene Veranstaltung! \nWaidmannsheil und freundliche Grüße \nChristian Mies
URL:https://www.jagd-ww.de/veranstaltung/hegeringschiessen-hr-westerburg-und-hr-rennerod/
LOCATION:Schießstand Höhn
END:VEVENT
BEGIN:VEVENT
DTSTART;TZID=Europe/Berlin:20250411T180000
DTEND;TZID=Europe/Berlin:20250411T203000
DTSTAMP:20260421T212733
CREATED:20241215T110642Z
LAST-MODIFIED:20250403T100901Z
UID:5913-1744394400-1744403400@www.jagd-ww.de
SUMMARY:Kreisgruppenversammlung 2025
DESCRIPTION:Einladung zur Jahreshauptversammlung mit Hegeschau der Kreisgruppe Westerwald e.V.\nAm Freitag\, den 11.04.2025 um 18.00 Uhr in der Denkfabrik\, Bad Marienberg-Eichenstruth\nTagesordnung: (Änderungen vorbehalten)\n1. Begrüßung\n2. Totenehrung\n3. Grußworte\n4. Berichte\n– des Kreisgruppenvorsitzenden\n– des Schatzmeisters und der Kassenprüfer mit Antrag auf Entlastung des\ngeschäftsführenden Vorstandes\n– der Vertrauensperson der Hundesolidarkasse\n– des Kreisjagdmeisters\n5. Wahl eines Schatzmeisters\n6. Ehrungen\n7. Verschiedenes u. a. Verlosung
URL:https://www.jagd-ww.de/veranstaltung/kreisgruppenversammlung-2025/
LOCATION:Denkfabrik\, Vor der Heeg 9\, Bad Marienberg Eichenstruth\, 56470
END:VEVENT
BEGIN:VEVENT
DTSTART;TZID=Europe/Berlin:20250405T140000
DTEND;TZID=Europe/Berlin:20250405T160000
DTSTAMP:20260421T212733
CREATED:20241215T105203Z
LAST-MODIFIED:20241215T105203Z
UID:5910-1743861600-1743868800@www.jagd-ww.de
SUMMARY:Hegeringversammlung 2025 Bad Marienberg
DESCRIPTION:
URL:https://www.jagd-ww.de/veranstaltung/hegeringversammlung-2025-bad-marienberg/
LOCATION:Dorfgemeinschafthaus Nistertal\, Nistertal
END:VEVENT
BEGIN:VEVENT
DTSTART;TZID=Europe/Berlin:20250404T180000
DTEND;TZID=Europe/Berlin:20250404T200000
DTSTAMP:20260421T212734
CREATED:20241215T105049Z
LAST-MODIFIED:20250108T112309Z
UID:5906-1743789600-1743796800@www.jagd-ww.de
SUMMARY:Hegeringversammlung 2025 Montabaur
DESCRIPTION:
URL:https://www.jagd-ww.de/veranstaltung/hegeringversammlung-2025-rennerod/
LOCATION:Zum Dorfbrunnen\, Bachstr. 1\, Niederelbert\, 56412\, Germany
END:VEVENT
BEGIN:VEVENT
DTSTART;TZID=Europe/Berlin:20250321T180000
DTEND;TZID=Europe/Berlin:20250321T200000
DTSTAMP:20260421T212734
CREATED:20241215T104907Z
LAST-MODIFIED:20250108T091423Z
UID:5903-1742580000-1742587200@www.jagd-ww.de
SUMMARY:Hegeringversammlung 2025 Westerburg
DESCRIPTION:Einladung zur Hegeringversammlung am Freitag\, den 21. März um 18 Uhr im Gasthaus Doll\, in Pottum. Tagesordnung (Änderungen vorbehalten): 1. Begrüßung\, 2. Totenehrung\, 3. Bericht des HRL\, 4. Berichte des KGV\, der UJB\, des KJM\, Trophäenauswertung\, 5. Information zur ASP (Veterinäramt Montabaur)\, 6. Verschiedenes.\nTrophäen zwecks Bewertung bitte entweder am 20.3. zwischen 18 und 20 Uhr im Gasthaus Doll abgeben\, oder bis zum 20.3 mit Beschriftung bei Lars Heinz\, Westerburger Str. 25 in Öllingen.
URL:https://www.jagd-ww.de/veranstaltung/hegeringversammlung-2025-westerburg/
LOCATION:Gasthaus Doll\, Pottum
END:VEVENT
BEGIN:VEVENT
DTSTART;TZID=Europe/Berlin:20250315T140000
DTEND;TZID=Europe/Berlin:20250315T160000
DTSTAMP:20260421T212734
CREATED:20241215T104811Z
LAST-MODIFIED:20250108T091503Z
UID:5899-1742047200-1742054400@www.jagd-ww.de
SUMMARY:Hegeringversammlung 2025 Hachenburg
DESCRIPTION:Einladung zur Hegeringversammlung\nam 15.3.25 um 14 Uhr in der Mehrzweckhalle in Marzhausen. Tagesordnung: 1. Begrüßung\, 2. Totenehrung\, 3. Bericht des Hegeringleiters\, 4. Bericht des KG-Vorsitzenden\, 5. Bericht des Kreisjagdmeisters\, 6. Aktuelle Informationen durch die UJB\, 7. Mitgliederehrungen\, 8. Informationen zur ASP (Veterinärbehörde WW- Kreis) 9. Verschiedenes. Damit die Trophäen / Keilerwaffen ausgewertet werden können\, sind diese am 14.3.25 ab 17 Uhr vor Ort abzugeben.
URL:https://www.jagd-ww.de/veranstaltung/hegeringversammlung-2025-hachenburg/
LOCATION:Dorfgemeinschaftschaftshaus Marzhausen
END:VEVENT
BEGIN:VEVENT
DTSTART;TZID=Europe/Berlin:20250314T180000
DTEND;TZID=Europe/Berlin:20250314T200000
DTSTAMP:20260421T212734
CREATED:20241215T104622Z
LAST-MODIFIED:20250108T091322Z
UID:5896-1741975200-1741982400@www.jagd-ww.de
SUMMARY:Hegeringversammlung 2025 Selters
DESCRIPTION:Einladung zur Hegeringversammlung mit Trophäenschau am Freitag\, 14.3..25 um 18 Uhr in die Gaststätte „Alte Viehweide“ in Helferskirchen.\nTagesordnung: 1. Begrüßung durch die Jagdhornbläsergruppe „Drei-Herren-Stein“; 2. Begrüßung durch den Hegeringleiter; 3. Totenehrung; 4. Trophäenbesprechung durch den Kreisjagdmeister; 5. Aktuelle Informationen durch den Kreisgruppenvorsitzenden; 6. Aktuelle Informationen Untere Jagdbehörde; 7. Informationen zur ASP (Veterinärbehörde WW-Kreis)\, 8. Verschiedenes. Trophäenabgabe erfolgt bitte am Donnerstag\, 13.3.25 zwischen 18 – 19 Uhr. Nur in diesem Zeitraum werden die Trophäen vom Vorstand entgegengenommen.
URL:https://www.jagd-ww.de/veranstaltung/hegeringversammlung-2025-selters/
LOCATION:Hotel „Alte Viehweide“\, Helferskirchen
END:VEVENT
BEGIN:VEVENT
DTSTART;TZID=Europe/Berlin:20250307T180000
DTEND;TZID=Europe/Berlin:20250307T200000
DTSTAMP:20260421T212734
CREATED:20241215T104524Z
LAST-MODIFIED:20250108T091611Z
UID:5893-1741370400-1741377600@www.jagd-ww.de
SUMMARY:Hegeringversammlung 2025 Wallmerod / Steinefrenz
DESCRIPTION:Einladung zur Hegeringversammlung am Freitag\, den 7. März um 18:30 Uhr im Dorfgemeinschaftshaus Hahn am See.\nTagesordnung: 1. Begrüßung\, 2. Totenehrung\, 3. Bericht und Informationen des Hegeringleiters\, 4. Aktuelle Informationen der „Unteren Jagdbehörde“\, 5. Informationen und Bericht des Kreisjagdmeisters\, 6. Informationen und Bericht des Kreisgruppenvorsitzenden\, 7. Trophäenauswertung\, 8. Ehrungen\, 9. Termine\, 10.Informationen zur ASP (Veterinärbehörde WW- Kreis)\, 11. Verschiedenes / Fragen / Anregungen
URL:https://www.jagd-ww.de/veranstaltung/hegeringversammlung-2025-wallmerod-steinefrenz/
LOCATION:Dorfgemeinschaftshaus Hahn am See\, Hahn am See
END:VEVENT
BEGIN:VEVENT
DTSTART;TZID=Europe/Berlin:20250214T180000
DTEND;TZID=Europe/Berlin:20250214T200000
DTSTAMP:20260421T212734
CREATED:20241215T104351Z
LAST-MODIFIED:20250108T091540Z
UID:5890-1739556000-1739563200@www.jagd-ww.de
SUMMARY:Hegeringversammlung 2025 Kannenbäckerland
DESCRIPTION:Einladung zur Hegeringersammlung am 14.02.\,18.00 Uhr im Hotel Wolf-Mertes\, in Sessenbach.\nTagesordnung: (Änderungen vorbehalten):\n1. Begrüßung\, 2. Totengedenken\, 3. Bericht des HRL\, 4. Berichte aus der KG\, vom KJM und der UJB\, 5. Information zur ASP (Veterinärbehörde WW- Kreis)\, 6. Verschiedenes.
URL:https://www.jagd-ww.de/veranstaltung/hegeringversammlung-2025-kannenbaeckerland/
LOCATION:Hotel Wolf Mertens\, Sessenbach
END:VEVENT
BEGIN:VEVENT
DTSTART;TZID=Europe/Berlin:20250208T100000
DTEND;TZID=Europe/Berlin:20250208T170000
DTSTAMP:20260421T212734
CREATED:20241221T091908Z
LAST-MODIFIED:20241221T091908Z
UID:5921-1739008800-1739034000@www.jagd-ww.de
SUMMARY:Redaktionelles Handwerk trifft Waidwerk
DESCRIPTION:Seminar \nErstellung von Bildern und Berichten für Jagd und Jäger sowie unsere Internetseite.
URL:https://www.jagd-ww.de/veranstaltung/redaktionelles-handwerk-trifft-waidwerk/
LOCATION:Hotel Deynique\, Westerburg
END:VEVENT
BEGIN:VEVENT
DTSTART;VALUE=DATE:20250130
DTEND;VALUE=DATE:20250201
DTSTAMP:20260421T212734
CREATED:20250110T115441Z
LAST-MODIFIED:20250110T115504Z
UID:5979-1738209600-1738295999@www.jagd-ww.de
SUMMARY:Großdemo in Hannover
DESCRIPTION:Liebe Jägerinnen und Jäger\, \n  \ndie Einschläge kommen näher – auch in Niedersachsen soll das Landesjagdgesetz wider besseres Wissen verändert werden. \nDeshalb plant der LJV Niedersachsen am 30.01. eine Großdemonstration in Hannover. \nDer LJV RLP ruft zur Unterstützung  der Niedersächsischen Jägerschaft auf. Eine zahlreiche Teilnahme ist sicherlich ein gutes Signal an unser grünes Ministerium was auch bei uns möglich ist. \n  \nWir rufen Jägerinnen und Jäger der Kreisgruppe zur zahlreichen Teilnahme auf.  \nFür die Hin- und Rückfahrt werden wir einen Bus organisieren. \n  \nBitte melden Sie sich umgehend mit Ihren Kontaktdaten bei Ihren Hegeringleitern an. \nInfos zur Demonstration: \nhttps://www.ljn.de/ueber-uns/aktuelles/news-artikel/news/demonstration-am-30-januar-2025-in-hannover
URL:https://www.jagd-ww.de/veranstaltung/grossdemo-in-hannover/
END:VEVENT
BEGIN:VEVENT
DTSTART;TZID=Europe/Berlin:20241129T190000
DTEND;TZID=Europe/Berlin:20241129T210000
DTSTAMP:20260421T212734
CREATED:20241114T104134Z
LAST-MODIFIED:20241114T104220Z
UID:5835-1732906800-1732914000@www.jagd-ww.de
SUMMARY:Informationsveranstaltung "Rückkehr der Wölfe"
DESCRIPTION:DLR-Westerwald-Osteifel/Termine/nach Datum /Titel: Weiterbildungsveranstaltung Rückkehr der Wölfe
URL:https://www.jagd-ww.de/veranstaltung/informationsveranstaltung-der-wolf-ist-zurueck/
END:VEVENT
BEGIN:VEVENT
DTSTART;TZID=Europe/Berlin:20241114T140000
DTEND;TZID=Europe/Berlin:20241114T170000
DTSTAMP:20260421T212734
CREATED:20241022T085013Z
LAST-MODIFIED:20241022T085013Z
UID:5787-1731592800-1731603600@www.jagd-ww.de
SUMMARY:Erste Hilfe am Jagdhund
DESCRIPTION:Liebe Jägerinnen und Jäger\, \nam 02.11.2024 findet in Wirges um 14.00 Uhr ein Kurs Erste Hilfe am Jagdhund für Jägerinnen und Jäger statt.\nKosten pro Teilnehmer 35€.\nInfo und Anmeldung über:\nBianca Domm (Fachausschuss Jägerinnen der Kreisgruppe Westerwald) \nTel. 0172- 954 55 87 \nbiancadomm1@gmail.com
URL:https://www.jagd-ww.de/veranstaltung/erste-hilfe-am-jagdhund-2/
END:VEVENT
BEGIN:VEVENT
DTSTART;TZID=Europe/Berlin:20241103T100000
DTEND;TZID=Europe/Berlin:20241103T113000
DTSTAMP:20260421T212734
CREATED:20241010T090217Z
LAST-MODIFIED:20241010T090217Z
UID:5775-1730628000-1730633400@www.jagd-ww.de
SUMMARY:Hubertusgottesdienst in Kroppach
DESCRIPTION:10.00 Uhr Hubertusgottesdienst in Kroppach (Pfarrer Manuel Fetthauer)\nHerzliche Einladung zu diesem Gottesdienst\, der wieder ganz unter dem Motto der Jagd stehen wird.\nMitgestaltet wird er von den Jagdhornbläsern Kroppacher Schweiz.\nIm Anschluss an den Gottesdienst laden wir herzlich ein zu Kaffee\, Apfelpunsch\, Glühwein und Köstlichkeiten aus dem Forstamt. \nUnser Bus fährt um 9.25 Uhr ab Niedermörsbach über Burbach\, Stein-Wingert\, Giesenhausen nach\nKroppach.\n__________________________________________________ \nSollten Sie Fragen haben\, melden Sie sich gerne bei mir. \nVielen Dank und herzliche Grüße\nSabine Halbach \nEVANGELISCHE KIRCHE\nIN HESSEN UND NASSAU \nEv. Kirchengemeinde Kroppach\nSabine Halbach\nGemeindesekretärin \nHauptstraße 1\n57612 Kroppach\nTelefon (02688) 98 90 54\nkirchengemeinde.kroppach@ekhn.de\nÖffnungszeiten des Gemeindebüros\nMo.+ Mi. 9.00-12.00 Uhr\, Di. 10.00-12.00 Uhr und Do. 13.00-15.00 Uhr
URL:https://www.jagd-ww.de/veranstaltung/hubertusgottesdienst-in-kroppach/
END:VEVENT
END:VCALENDAR